Workbook
Name その他: テーブル!$A$8:$A$28
Name 常勤換算: テーブル!$A$3:$A$7

Sheet 様式第1、別紙1
E1: 区分 | AH1: 様式第1
H2: ←※まず申請区分を選択してください。 | AK2: =IF(COUNTIF(AK3:AK57,"〇")=26,"〇","×") -> × | AL2: 本申請書の必要記載事項が全て記入されているか。
AK3: =IF(COUNTA(A1)=1,"〇","×") -> × | AL3: 区分
A4: 令和３年度愛知県医療機関等燃油価格高騰対策支援金 交付申請書（実績報告書兼請求書）
Z7: 令和 | AB7: 4 | AD7: 年 | AG7: 月 | AJ7: 日 | AK7: =IF(COUNTA(AB7)=1,"〇","×") -> 〇 | AL7: 年
AK8: =IF(COUNTA(AE7)=1,"〇","×") -> × | AL8: 月
A9: 愛知県知事 殿 | AK9: =IF(COUNTA(AH7)=1,"〇","×") -> × | AL9: 日
A11: 標記について、以下のとおり申請します。
A12: なお、振込は下記振込先情報に記載の口座までお願いいたします。
H14: 開設者 (氏名又は法人の場合は法人名) | M14: ﾌﾘｶﾞﾅ （半角ｶﾅ） | AK14: =IF(COUNTA(P14)=1,"〇","×") -> × | AL14: 開設者ﾌﾘｶﾞﾅ | AN14: 様式第1
AK15: =IF(COUNTA(M15)=1,"〇","×") -> × | AL15: 開設者
H16: 開設者住所地 （法人の場合は法人所在地） | M16: 〒 | AK16: =IF(COUNTA(N16)=1,"〇","×") -> × | AL16: 郵便番号
AK17: =IF(COUNTA(M17)=1,"〇","×") -> × | AL17: 所在地
H18: 代表者職名 | M18: ﾌﾘ ｶﾞﾅ | W18: 代表者氏名 | AB18: ﾌﾘ ｶﾞﾅ | AK18: =IF(COUNTA(N18)=1,"〇","×") -> × | AL18: 代表者職名ﾌﾘｶﾞﾅ
AK19: =IF(COUNTA(M19)=1,"〇","×") -> × | AL19: 代表者職名
H20: 担 当 者 | M20: 氏 名 | AK20: =IF(COUNTA(AC18)=1,"〇","×") -> × | AL20: 代表者氏名ﾌﾘｶﾞﾅ
AK21: =IF(COUNTA(AB19)=1,"〇","×") -> × | AL21: 代表者氏名
M22: 電話番号 （ﾊｲﾌﾝなし） | AK22: =IF(COUNTA(Q20)=1,"〇","×") -> × | AL22: 氏名
AK23: =IF(COUNTA(Q22)=1,"〇","×") -> × | AL23: 電話番号
M24: メールアドレス | AK24: =IF(COUNTA(Q24)=1,"〇","×") -> × | AL24: メルアド
H28: 申請に係る医療機関数※ | R28: =IF(別紙2!AH3="","",別紙2!AH3)
H30: 申請に係る車両台数※ | R30: =IF(別紙2!AZ3="","",別紙2!AZ3)
H32: 交付申請額（請求額） | R32: =IF(別紙2!BR3="","",別紙2!BR3)
H34: ※医療機関ごとの基本情報を別紙１「申請医療機関一覧表」に入力してください
H36: ※医療機関ごとの申請車両を別紙２「医療機関別該当自動車一覧表」に入力してください。
C37: 【申立事項】（下記のとおり相違ないことを確認の上、チェックボックスをチェックしてください。全ての項目がチェックされないと交付申請できません。）
D43: 申請する車両は、自らが燃料費を負担し、患者の通院送迎、医師による患者の居宅への訪問診療又は歯科医師による訪問歯科診療等に使用するものであること。 | AK43: =IF(AL43=TRUE,"〇","×") -> × | AL43: FALSE
D44: 本年度において、燃油価格高騰の影響に対する支援を目的とした他の補助金等の交付を受けていないこと。また、本支援金における他区分において、同一車両の申請を行わないこと。 | AK44: =IF(AL44=TRUE,"〇","×") -> × | AL44: FALSE
D46: この支援金に係る収入及び支出等に係る証拠書類を５年間適切に整備保管すること。 | AK46: =IF(AL46=TRUE,"〇","×") -> × | AL46: FALSE
D48: 申請区分・申請金額等の申請内容に相違ないこと。 | AK48: =IF(AL48=TRUE,"〇","×") -> × | AL48: FALSE
A50: 法人あて支援金の振込先として指定できる口座の情報を入力してください。 （ゆうちょ銀行の場合は、記号・番号から店名・口座番号へ変換のうえ、入力してください。）
A51: 振込先情報 | B51: 金融機関コード | AK51: =IF(COUNTA(G51:J51)=4,"〇","×") -> × | AL51: 金融機関コード
B52: 支店番号 | AK52: =IF(COUNTA(G52:I52)=3,"〇","×") -> × | AL52: 支店番号
B53: 金融機関名 | AK53: =IF(COUNTA(G53)=1,"〇","×") -> × | AL53: 金融機関名
B54: 店 名 | AK54: =IF(COUNTA(G54)=1,"〇","×") -> × | AL54: 店名
B55: 預金種類 | I55: １．普通 ２．当座（数字を選択してください。貯蓄など左記以外の預金種類は不可。） | AK55: =IF(COUNTA(G55)=1,"〇","×") -> × | AL55: 預金種類
B56: 口座番号 | AK56: =IF(COUNTA(G56:M56)=7,"〇","×") -> × | AL56: 口座番号
B57: 口座名義（ｶﾅ）※ | AK57: =IF(COUNTA(G57:AJ57)>=1,"〇","×") -> × | AL57: （フリガナ）
A58: ※口座名義（ｶﾅ）：通帳の見開き等に記載されているカタカナの名義をスペースを含め正確に記載してください。
C59: 通帳の表面にある漢字の名義ではありませんので十分注意してください。 なお、口座名義（ｶﾅ）が30文字を超える場合お支払いできません。 また、開設者名又は代表者名以外の口座名義人となっていた場合もお支払いできません。
...

Sheet 別紙2
B2: =IF('様式第1、別紙1'!$A$1="","",'様式第1、別紙1'!$A$1) | K2: 区分 | AE2: ＜別紙２＞ 医療機関別該当自動車一覧表（１枚目)
B3: 法人名 | L3: =IF('様式第1、別紙1'!$M$15="","",'様式第1、別紙1'!$M$15) | Y3: 申請医療機関数 | AH3: =IF(COUNTA('様式第1、別紙1'!L64:U103)=0,"",COUNTA('様式第1、別紙1'!L64:U103)) | AQ3: 申請台数 | AZ3: =IF(SUM(K11,K19,K27,K35,K43,K55,K63,K71,K79,K87,K99,K107,K115,K123,K131,K143,K151,K159,K167,K175,K187,K195,K203,K211,K219,K231,K239,K247,K255,K263,K275,K283,K291,K299,K307,K319,K327,K335,K343,K351)=0,"",SUM(K11,K19,K27,K35,K43,K55,K63,K71,K79,K87,K99,K107,K115,K123,K131,K143,K151,K159,K167,K175,K187,K195,K203,K211,K219,K231,K239,K247,K255,K263,K275,K283,K291,K299,K307,K319,K327,K335,K343,K351)) | BJ3: 申請額 | BR3: =IF(SUM(K12,K20,K28,K36,K44,K56,K64,K72,K80,K88,K100,K108,K116,K124,K132,K144,K152,K160,K168,K176,K188,K196,K204,K212,K220,K232,K240,K248,K256,K264,K276,K284,K292,K300,K308,K320,K328,K336,K344,K352)=0,"",SUM(K12,K20,K28,K36,K56,K64,K72,K80,K88,K100,K108,K116,K124,K132,K144,K152,K160,K168,K176,K188,K196,K204,K212,K220,K232,K240,K248,K256,K264,K276,K284,K292,K300,K308,K320,K328,K336,K344,K352))
AA4: ↓申請する自動車のナンバー及び車種を記載してください。
B5: 1 | D5: 医療機関番号 | K5: =IF('様式第1、別紙1'!H64="","",'様式第1、別紙1'!H64) | AA5: 地名 | AG5: 分類番号 | AM5: ひらがな | AQ5: 一連指定番号 | AZ5: 車種 | BA5: 地名 | BG5: 分類番号 | BM5: ひらがな | BQ5: 一連指定番号 | BZ5: 車種
D6: 医療機関名 | K6: =IF('様式第1、別紙1'!L64="","",'様式第1、別紙1'!L64) | AA6: 例）名古屋 | AG6: 5 | AI6: 0 | AK6: 0 | AM6: う | AS6: 1 | AU6: － | AV6: 2 | AX6: 3 | AZ6: 軽自動車 | BU6: －
D7: 医師・歯科医師 常勤換算人数 | K7: =IF('様式第1、別紙1'!V64="","",'様式第1、別紙1'!V64) | AU7: － | BU7: －
AU8: － | BU8: －
D9: 申請可能台数 | K9: =IF('様式第1、別紙1'!Y64="","",'様式第1、別紙1'!Y64) | AU9: － | BU9: －
D10: 基準額 | K10: =IF('様式第1、別紙1'!AB64="","",'様式第1、別紙1'!AB64) | AU10: － | BU10: －
D11: 申請台数 | K11: =IF('様式第1、別紙1'!AE64="","",'様式第1、別紙1'!AE64) | AU11: － | BU11: －
D12: 申請額 | K12: =IF('様式第1、別紙1'!AH64="","",'様式第1、別紙1'!AH64) | AU12: － | BU12: －
B13: 2 | D13: 医療機関番号 | K13: =IF('様式第1、別紙1'!H65="","",'様式第1、別紙1'!H65) | AA13: 地名 | AG13: 分類番号 | AM13: ひらがな | AQ13: 一連指定番号 | AZ13: 車種 | BA13: 地名 | BG13: 分類番号 | BM13: ひらがな | BQ13: 一連指定番号 | BZ13: 車種
D14: 医療機関名 | K14: =IF('様式第1、別紙1'!L65="","",'様式第1、別紙1'!L65) | AA14: 例）名古屋 | AG14: 5 | AI14: 0 | AK14: 0 | AM14: う | AS14: 1 | AU14: － | AV14: 2 | AX14: 3 | AZ14: 軽自動車 | BU14: －
D15: 医師・歯科医師 常勤換算人数 | K15: =IF('様式第1、別紙1'!V65="","",'様式第1、別紙1'!V65) | AU15: － | BU15: －
AU16: － | BU16: －
D17: 申請可能台数 | K17: =IF('様式第1、別紙1'!Y65="","",'様式第1、別紙1'!Y65) | AU17: － | BU17: －
D18: 基準額 | K18: =IF('様式第1、別紙1'!AB65="","",'様式第1、別紙1'!AB65) | AU18: － | BU18: －
D19: 申請台数 | K19: =IF('様式第1、別紙1'!AE65="","",'様式第1、別紙1'!AE65) | AU19: － | BU19: －
D20: 申請額 | K20: =IF('様式第1、別紙1'!AH65="","",'様式第1、別紙1'!AH65) | AU20: － | BU20: －
B21: 3 | D21: 医療機関番号 | K21: =IF('様式第1、別紙1'!H66="","",'様式第1、別紙1'!H66) | AA21: 地名 | AG21: 分類番号 | AM21: ひらがな | AQ21: 一連指定番号 | AZ21: 車種 | BA21: 地名 | BG21: 分類番号 | BM21: ひらがな | BQ21: 一連指定番号 | BZ21: 車種
D22: 医療機関名 | K22: =IF('様式第1、別紙1'!L66="","",'様式第1、別紙1'!L66) | AA22: 例）名古屋 | AG22: 5 | AI22: 0 | AK22: 0 | AM22: う | AS22: 1 | AU22: － | AV22: 2 | AX22: 3 | AZ22: 軽自動車 | BU22: －
D23: 医師・歯科医師 常勤換算人数 | K23: =IF('様式第1、別紙1'!V66="","",'様式第1、別紙1'!V66) | AU23: － | BU23: －
AU24: － | BU24: －
D25: 申請可能台数 | K25: =IF('様式第1、別紙1'!Y66="","",'様式第1、別紙1'!Y66) | AU25: － | BU25: －
D26: 基準額 | K26: =IF('様式第1、別紙1'!AB66="","",'様式第1、別紙1'!AB66) | AU26: － | BU26: －
D27: 申請台数 | K27: =IF('様式第1、別紙1'!AE66="","",'様式第1、別紙1'!AE66) | AU27: － | BU27: －
D28: 申請額 | K28: =IF('様式第1、別紙1'!AH66="","",'様式第1、別紙1'!AH66) | AU28: － | BU28: －
B29: 4 | D29: 医療機関番号 | K29: =IF('様式第1、別紙1'!H67="","",'様式第1、別紙1'!H67) | AA29: 地名 | AG29: 分類番号 | AM29: ひらがな | AQ29: 一連指定番号 | AZ29: 車種 | BA29: 地名 | BG29: 分類番号 | BM29: ひらがな | BQ29: 一連指定番号 | BZ29: 車種
D30: 医療機関名 | K30: =IF('様式第1、別紙1'!L67="","",'様式第1、別紙1'!L67) | AA30: 例）名古屋 | AG30: 5 | AI30: 0 | AK30: 0 | AM30: う | AS30: 1 | AU30: － | AV30: 2 | AX30: 3 | AZ30: 軽自動車 | BU30: －
D31: 医師・歯科医師 常勤換算人数 | K31: =IF('様式第1、別紙1'!V67="","",'様式第1、別紙1'!V67) | AU31: － | BU31: －
AU32: － | BU32: －
D33: 申請可能台数 | K33: =IF('様式第1、別紙1'!Y67="","",'様式第1、別紙1'!Y67) | AU33: － | BU33: －
D34: 基準額 | K34: =IF('様式第1、別紙1'!AB67="","",'様式第1、別紙1'!AB67) | AU34: － | BU34: －
D35: 申請台数 | K35: =IF('様式第1、別紙1'!AE67="","",'様式第1、別紙1'!AE67) | AU35: － | BU35: －
D36: 申請額 | K36: =IF('様式第1、別紙1'!AH67="","",'様式第1、別紙1'!AH67) | AU36: － | BU36: －
B37: 5 | D37: 医療機関番号 | K37: =IF('様式第1、別紙1'!H68="","",'様式第1、別紙1'!H68) | AA37: 地名 | AG37: 分類番号 | AM37: ひらがな | AQ37: 一連指定番号 | AZ37: 車種 | BA37: 地名 | BG37: 分類番号 | BM37: ひらがな | BQ37: 一連指定番号 | BZ37: 車種
D38: 医療機関名 | K38: =IF('様式第1、別紙1'!L68="","",'様式第1、別紙1'!L68) | AA38: 例）名古屋 | AG38: 5 | AI38: 0 | AK38: 0 | AM38: う | AS38: 1 | AU38: － | AV38: 2 | AX38: 3 | AZ38: 軽自動車 | BU38: －
D39: 医師・歯科医師 常勤換算人数 | K39: =IF('様式第1、別紙1'!V68="","",'様式第1、別紙1'!V68) | AU39: － | BU39: －
AU40: － | BU40: －
D41: 申請可能台数 | K41: =IF('様式第1、別紙1'!Y68="","",'様式第1、別紙1'!Y68) | AU41: － | BU41: －
...

Sheet テーブル
G1: 預金種類
F2: 普通 | G2: 1
F3: 当座 | G3: 2
A30: 透析
A31: 訪問診療
A32: 訪問歯科診療
A33: その他

Sheet 車両情報（転記用）
B1: 地名 | C1: 分類番号 | F1: ひらがな | G1: 一連指定番号
A2: 1-1 | B2: =別紙2!AA7 -> 0 | C2: =別紙2!AG7 -> 0 | D2: =別紙2!AI7 -> 0 | E2: =別紙2!AK7 -> 0 | F2: =別紙2!AM7 -> 0 | G2: =別紙2!AQ7 -> 0 | H2: =別紙2!AS7 -> 0 | I2: =別紙2!AU7 -> － | J2: =別紙2!AV7 -> 0 | K2: =別紙2!AX7 -> 0 | M2: =CONCATENATE(B2,C2,D2,E2,F2,G2,H2,I2,J2,K2) -> 0000000－00
A3: 1-2 | B3: =別紙2!AA8 -> 0 | C3: =別紙2!AG8 -> 0 | D3: =別紙2!AI8 -> 0 | E3: =別紙2!AK8 -> 0 | F3: =別紙2!AM8 -> 0 | G3: =別紙2!AQ8 -> 0 | H3: =別紙2!AS8 -> 0 | I3: =別紙2!AU8 -> － | J3: =別紙2!AV8 -> 0 | K3: =別紙2!AX8 -> 0 | M3: =CONCATENATE(B3,C3,D3,E3,F3,G3,H3,I3,J3,K3) -> 0000000－00
A4: 1-3 | B4: =別紙2!AA9 -> 0 | C4: =別紙2!AG9 -> 0 | D4: =別紙2!AI9 -> 0 | E4: =別紙2!AK9 -> 0 | F4: =別紙2!AM9 -> 0 | G4: =別紙2!AQ9 -> 0 | H4: =別紙2!AS9 -> 0 | I4: =別紙2!AU9 -> － | J4: =別紙2!AV9 -> 0 | K4: =別紙2!AX9 -> 0 | M4: =CONCATENATE(B4,C4,D4,E4,F4,G4,H4,I4,J4,K4) -> 0000000－00
A5: 1-4 | B5: =別紙2!AA10 -> 0 | C5: =別紙2!AG10 -> 0 | D5: =別紙2!AI10 -> 0 | E5: =別紙2!AK10 -> 0 | F5: =別紙2!AM10 -> 0 | G5: =別紙2!AQ10 -> 0 | H5: =別紙2!AS10 -> 0 | I5: =別紙2!AU10 -> － | J5: =別紙2!AV10 -> 0 | K5: =別紙2!AX10 -> 0 | M5: =CONCATENATE(B5,C5,D5,E5,F5,G5,H5,I5,J5,K5) -> 0000000－00
A6: 1-5 | B6: =別紙2!AA11 -> 0 | C6: =別紙2!AG11 -> 0 | D6: =別紙2!AI11 -> 0 | E6: =別紙2!AK11 -> 0 | F6: =別紙2!AM11 -> 0 | G6: =別紙2!AQ11 -> 0 | H6: =別紙2!AS11 -> 0 | I6: =別紙2!AU11 -> － | J6: =別紙2!AV11 -> 0 | K6: =別紙2!AX11 -> 0 | M6: =CONCATENATE(B6,C6,D6,E6,F6,G6,H6,I6,J6,K6) -> 0000000－00
A7: 1-6 | B7: =別紙2!AA12 -> 0 | C7: =別紙2!AG12 -> 0 | D7: =別紙2!AI12 -> 0 | E7: =別紙2!AK12 -> 0 | F7: =別紙2!AM12 -> 0 | G7: =別紙2!AQ12 -> 0 | H7: =別紙2!AS12 -> 0 | I7: =別紙2!AU12 -> － | J7: =別紙2!AV12 -> 0 | K7: =別紙2!AX12 -> 0 | M7: =CONCATENATE(B7,C7,D7,E7,F7,G7,H7,I7,J7,K7) -> 0000000－00
A8: 1-7 | B8: =別紙2!BA6 -> 0 | C8: =別紙2!BG6 -> 0 | D8: =別紙2!BI6 -> 0 | E8: =別紙2!BK6 -> 0 | F8: =別紙2!BM6 -> 0 | G8: =別紙2!BQ6 -> 0 | H8: =別紙2!BS6 -> 0 | I8: =別紙2!BU6 -> － | J8: =別紙2!BV6 -> 0 | K8: =別紙2!BX6 -> 0 | M8: =CONCATENATE(B8,C8,D8,E8,F8,G8,H8,I8,J8,K8) -> 0000000－00
A9: 1-8 | B9: =別紙2!BA7 -> 0 | C9: =別紙2!BG7 -> 0 | D9: =別紙2!BI7 -> 0 | E9: =別紙2!BK7 -> 0 | F9: =別紙2!BM7 -> 0 | G9: =別紙2!BQ7 -> 0 | H9: =別紙2!BS7 -> 0 | I9: =別紙2!BU7 -> － | J9: =別紙2!BV7 -> 0 | K9: =別紙2!BX7 -> 0 | M9: =CONCATENATE(B9,C9,D9,E9,F9,G9,H9,I9,J9,K9) -> 0000000－00
A10: 1-9 | B10: =別紙2!BA8 -> 0 | C10: =別紙2!BG8 -> 0 | D10: =別紙2!BI8 -> 0 | E10: =別紙2!BK8 -> 0 | F10: =別紙2!BM8 -> 0 | G10: =別紙2!BQ8 -> 0 | H10: =別紙2!BS8 -> 0 | I10: =別紙2!BU8 -> － | J10: =別紙2!BV8 -> 0 | K10: =別紙2!BX8 -> 0 | M10: =CONCATENATE(B10,C10,D10,E10,F10,G10,H10,I10,J10,K10) -> 0000000－00
A11: 1-10 | B11: =別紙2!BA9 -> 0 | C11: =別紙2!BG9 -> 0 | D11: =別紙2!BI9 -> 0 | E11: =別紙2!BK9 -> 0 | F11: =別紙2!BM9 -> 0 | G11: =別紙2!BQ9 -> 0 | H11: =別紙2!BS9 -> 0 | I11: =別紙2!BU9 -> － | J11: =別紙2!BV9 -> 0 | K11: =別紙2!BX9 -> 0 | M11: =CONCATENATE(B11,C11,D11,E11,F11,G11,H11,I11,J11,K11) -> 0000000－00
A12: 1-11 | B12: =別紙2!BA10 -> 0 | C12: =別紙2!BG10 -> 0 | D12: =別紙2!BI10 -> 0 | E12: =別紙2!BK10 -> 0 | F12: =別紙2!BM10 -> 0 | G12: =別紙2!BQ10 -> 0 | H12: =別紙2!BS10 -> 0 | I12: =別紙2!BU10 -> － | J12: =別紙2!BV10 -> 0 | K12: =別紙2!BX10 -> 0 | M12: =CONCATENATE(B12,C12,D12,E12,F12,G12,H12,I12,J12,K12) -> 0000000－00
A13: 1-12 | B13: =別紙2!BA11 -> 0 | C13: =別紙2!BG11 -> 0 | D13: =別紙2!BI11 -> 0 | E13: =別紙2!BK11 -> 0 | F13: =別紙2!BM11 -> 0 | G13: =別紙2!BQ11 -> 0 | H13: =別紙2!BS11 -> 0 | I13: =別紙2!BU11 -> － | J13: =別紙2!BV11 -> 0 | K13: =別紙2!BX11 -> 0 | M13: =CONCATENATE(B13,C13,D13,E13,F13,G13,H13,I13,J13,K13) -> 0000000－00
A14: 1-13 | B14: =別紙2!BA12 -> 0 | C14: =別紙2!BG12 -> 0 | D14: =別紙2!BI12 -> 0 | E14: =別紙2!BK12 -> 0 | F14: =別紙2!BM12 -> 0 | G14: =別紙2!BQ12 -> 0 | H14: =別紙2!BS12 -> 0 | I14: =別紙2!BU12 -> － | J14: =別紙2!BV12 -> 0 | K14: =別紙2!BX12 -> 0 | M14: =CONCATENATE(B14,C14,D14,E14,F14,G14,H14,I14,J14,K14) -> 0000000－00
A15: 2-1 | B15: =別紙2!AA15 -> 0 | C15: =別紙2!AG15 -> 0 | D15: =別紙2!AI15 -> 0 | E15: =別紙2!AK15 -> 0 | F15: =別紙2!AM15 -> 0 | G15: =別紙2!AQ15 -> 0 | H15: =別紙2!AS15 -> 0 | I15: =別紙2!AU15 -> － | J15: =別紙2!AV15 -> 0 | K15: =別紙2!AX15 -> 0 | M15: =CONCATENATE(B15,C15,D15,E15,F15,G15,H15,I15,J15,K15) -> 0000000－00
A16: 2-2 | B16: =別紙2!AA16 -> 0 | C16: =別紙2!AG16 -> 0 | D16: =別紙2!AI16 -> 0 | E16: =別紙2!AK16 -> 0 | F16: =別紙2!AM16 -> 0 | G16: =別紙2!AQ16 -> 0 | H16: =別紙2!AS16 -> 0 | I16: =別紙2!AU16 -> － | J16: =別紙2!AV16 -> 0 | K16: =別紙2!AX16 -> 0 | M16: =CONCATENATE(B16,C16,D16,E16,F16,G16,H16,I16,J16,K16) -> 0000000－00
A17: 2-3 | B17: =別紙2!AA17 -> 0 | C17: =別紙2!AG17 -> 0 | D17: =別紙2!AI17 -> 0 | E17: =別紙2!AK17 -> 0 | F17: =別紙2!AM17 -> 0 | G17: =別紙2!AQ17 -> 0 | H17: =別紙2!AS17 -> 0 | I17: =別紙2!AU17 -> － | J17: =別紙2!AV17 -> 0 | K17: =別紙2!AX17 -> 0 | M17: =CONCATENATE(B17,C17,D17,E17,F17,G17,H17,I17,J17,K17) -> 0000000－00
A18: 2-4 | B18: =別紙2!AA18 -> 0 | C18: =別紙2!AG18 -> 0 | D18: =別紙2!AI18 -> 0 | E18: =別紙2!AK18 -> 0 | F18: =別紙2!AM18 -> 0 | G18: =別紙2!AQ18 -> 0 | H18: =別紙2!AS18 -> 0 | I18: =別紙2!AU18 -> － | J18: =別紙2!AV18 -> 0 | K18: =別紙2!AX18 -> 0 | M18: =CONCATENATE(B18,C18,D18,E18,F18,G18,H18,I18,J18,K18) -> 0000000－00
A19: 2-5 | B19: =別紙2!AA19 -> 0 | C19: =別紙2!AG19 -> 0 | D19: =別紙2!AI19 -> 0 | E19: =別紙2!AK19 -> 0 | F19: =別紙2!AM19 -> 0 | G19: =別紙2!AQ19 -> 0 | H19: =別紙2!AS19 -> 0 | I19: =別紙2!AU19 -> － | J19: =別紙2!AV19 -> 0 | K19: =別紙2!AX19 -> 0 | M19: =CONCATENATE(B19,C19,D19,E19,F19,G19,H19,I19,J19,K19) -> 0000000－00
A20: 2-6 | B20: =別紙2!AA20 -> 0 | C20: =別紙2!AG20 -> 0 | D20: =別紙2!AI20 -> 0 | E20: =別紙2!AK20 -> 0 | F20: =別紙2!AM20 -> 0 | G20: =別紙2!AQ20 -> 0 | H20: =別紙2!AS20 -> 0 | I20: =別紙2!AU20 -> － | J20: =別紙2!AV20 -> 0 | K20: =別紙2!AX20 -> 0 | M20: =CONCATENATE(B20,C20,D20,E20,F20,G20,H20,I20,J20,K20) -> 0000000－00
A21: 2-7 | B21: =別紙2!BA14 -> 0 | C21: =別紙2!BG14 -> 0 | D21: =別紙2!BI14 -> 0 | E21: =別紙2!BK14 -> 0 | F21: =別紙2!BM14 -> 0 | G21: =別紙2!BQ14 -> 0 | H21: =別紙2!BS14 -> 0 | I21: =別紙2!BU14 -> － | J21: =別紙2!BV14 -> 0 | K21: =別紙2!BX14 -> 0 | M21: =CONCATENATE(B21,C21,D21,E21,F21,G21,H21,I21,J21,K21) -> 0000000－00
A22: 2-8 | B22: =別紙2!BA15 -> 0 | C22: =別紙2!BG15 -> 0 | D22: =別紙2!BI15 -> 0 | E22: =別紙2!BK15 -> 0 | F22: =別紙2!BM15 -> 0 | G22: =別紙2!BQ15 -> 0 | H22: =別紙2!BS15 -> 0 | I22: =別紙2!BU15 -> － | J22: =別紙2!BV15 -> 0 | K22: =別紙2!BX15 -> 0 | M22: =CONCATENATE(B22,C22,D22,E22,F22,G22,H22,I22,J22,K22) -> 0000000－00
A23: 2-9 | B23: =別紙2!BA16 -> 0 | C23: =別紙2!BG16 -> 0 | D23: =別紙2!BI16 -> 0 | E23: =別紙2!BK16 -> 0 | F23: =別紙2!BM16 -> 0 | G23: =別紙2!BQ16 -> 0 | H23: =別紙2!BS16 -> 0 | I23: =別紙2!BU16 -> － | J23: =別紙2!BV16 -> 0 | K23: =別紙2!BX16 -> 0 | M23: =CONCATENATE(B23,C23,D23,E23,F23,G23,H23,I23,J23,K23) -> 0000000－00
A24: 2-10 | B24: =別紙2!BA17 -> 0 | C24: =別紙2!BG17 -> 0 | D24: =別紙2!BI17 -> 0 | E24: =別紙2!BK17 -> 0 | F24: =別紙2!BM17 -> 0 | G24: =別紙2!BQ17 -> 0 | H24: =別紙2!BS17 -> 0 | I24: =別紙2!BU17 -> － | J24: =別紙2!BV17 -> 0 | K24: =別紙2!BX17 -> 0 | M24: =CONCATENATE(B24,C24,D24,E24,F24,G24,H24,I24,J24,K24) -> 0000000－00
A25: 2-11 | B25: =別紙2!BA18 -> 0 | C25: =別紙2!BG18 -> 0 | D25: =別紙2!BI18 -> 0 | E25: =別紙2!BK18 -> 0 | F25: =別紙2!BM18 -> 0 | G25: =別紙2!BQ18 -> 0 | H25: =別紙2!BS18 -> 0 | I25: =別紙2!BU18 -> － | J25: =別紙2!BV18 -> 0 | K25: =別紙2!BX18 -> 0 | M25: =CONCATENATE(B25,C25,D25,E25,F25,G25,H25,I25,J25,K25) -> 0000000－00
A26: 2-12 | B26: =別紙2!BA19 -> 0 | C26: =別紙2!BG19 -> 0 | D26: =別紙2!BI19 -> 0 | E26: =別紙2!BK19 -> 0 | F26: =別紙2!BM19 -> 0 | G26: =別紙2!BQ19 -> 0 | H26: =別紙2!BS19 -> 0 | I26: =別紙2!BU19 -> － | J26: =別紙2!BV19 -> 0 | K26: =別紙2!BX19 -> 0 | M26: =CONCATENATE(B26,C26,D26,E26,F26,G26,H26,I26,J26,K26) -> 0000000－00
A27: 2-13 | B27: =別紙2!BA20 -> 0 | C27: =別紙2!BG20 -> 0 | D27: =別紙2!BI20 -> 0 | E27: =別紙2!BK20 -> 0 | F27: =別紙2!BM20 -> 0 | G27: =別紙2!BQ20 -> 0 | H27: =別紙2!BS20 -> 0 | I27: =別紙2!BU20 -> － | J27: =別紙2!BV20 -> 0 | K27: =別紙2!BX20 -> 0 | M27: =CONCATENATE(B27,C27,D27,E27,F27,G27,H27,I27,J27,K27) -> 0000000－00
A28: 3-1 | B28: =別紙2!AA23 -> 0 | C28: =別紙2!AG23 -> 0 | D28: =別紙2!AI23 -> 0 | E28: =別紙2!AK23 -> 0 | F28: =別紙2!AM23 -> 0 | G28: =別紙2!AQ23 -> 0 | H28: =別紙2!AS23 -> 0 | I28: =別紙2!AU23 -> － | J28: =別紙2!AV23 -> 0 | K28: =別紙2!AX23 -> 0 | M28: =CONCATENATE(B28,C28,D28,E28,F28,G28,H28,I28,J28,K28) -> 0000000－00
A29: 3-2 | B29: =別紙2!AA24 -> 0 | C29: =別紙2!AG24 -> 0 | D29: =別紙2!AI24 -> 0 | E29: =別紙2!AK24 -> 0 | F29: =別紙2!AM24 -> 0 | G29: =別紙2!AQ24 -> 0 | H29: =別紙2!AS24 -> 0 | I29: =別紙2!AU24 -> － | J29: =別紙2!AV24 -> 0 | K29: =別紙2!AX24 -> 0 | M29: =CONCATENATE(B29,C29,D29,E29,F29,G29,H29,I29,J29,K29) -> 0000000－00
A30: 3-3 | B30: =別紙2!AA25 -> 0 | C30: =別紙2!AG25 -> 0 | D30: =別紙2!AI25 -> 0 | E30: =別紙2!AK25 -> 0 | F30: =別紙2!AM25 -> 0 | G30: =別紙2!AQ25 -> 0 | H30: =別紙2!AS25 -> 0 | I30: =別紙2!AU25 -> － | J30: =別紙2!AV25 -> 0 | K30: =別紙2!AX25 -> 0 | M30: =CONCATENATE(B30,C30,D30,E30,F30,G30,H30,I30,J30,K30) -> 0000000－00
A31: 3-4 | B31: =別紙2!AA26 -> 0 | C31: =別紙2!AG26 -> 0 | D31: =別紙2!AI26 -> 0 | E31: =別紙2!AK26 -> 0 | F31: =別紙2!AM26 -> 0 | G31: =別紙2!AQ26 -> 0 | H31: =別紙2!AS26 -> 0 | I31: =別紙2!AU26 -> － | J31: =別紙2!AV26 -> 0 | K31: =別紙2!AX26 -> 0 | M31: =CONCATENATE(B31,C31,D31,E31,F31,G31,H31,I31,J31,K31) -> 0000000－00
A32: 3-5 | B32: =別紙2!AA27 -> 0 | C32: =別紙2!AG27 -> 0 | D32: =別紙2!AI27 -> 0 | E32: =別紙2!AK27 -> 0 | F32: =別紙2!AM27 -> 0 | G32: =別紙2!AQ27 -> 0 | H32: =別紙2!AS27 -> 0 | I32: =別紙2!AU27 -> － | J32: =別紙2!AV27 -> 0 | K32: =別紙2!AX27 -> 0 | M32: =CONCATENATE(B32,C32,D32,E32,F32,G32,H32,I32,J32,K32) -> 0000000－00
A33: 3-6 | B33: =別紙2!AA28 -> 0 | C33: =別紙2!AG28 -> 0 | D33: =別紙2!AI28 -> 0 | E33: =別紙2!AK28 -> 0 | F33: =別紙2!AM28 -> 0 | G33: =別紙2!AQ28 -> 0 | H33: =別紙2!AS28 -> 0 | I33: =別紙2!AU28 -> － | J33: =別紙2!AV28 -> 0 | K33: =別紙2!AX28 -> 0 | M33: =CONCATENATE(B33,C33,D33,E33,F33,G33,H33,I33,J33,K33) -> 0000000－00
A34: 3-7 | B34: =別紙2!BA22 -> 0 | C34: =別紙2!BG22 -> 0 | D34: =別紙2!BI22 -> 0 | E34: =別紙2!BK22 -> 0 | F34: =別紙2!BM22 -> 0 | G34: =別紙2!BQ22 -> 0 | H34: =別紙2!BS22 -> 0 | I34: =別紙2!BU22 -> － | J34: =別紙2!BV22 -> 0 | K34: =別紙2!BX22 -> 0 | M34: =CONCATENATE(B34,C34,D34,E34,F34,G34,H34,I34,J34,K34) -> 0000000－00
A35: 3-8 | B35: =別紙2!BA23 -> 0 | C35: =別紙2!BG23 -> 0 | D35: =別紙2!BI23 -> 0 | E35: =別紙2!BK23 -> 0 | F35: =別紙2!BM23 -> 0 | G35: =別紙2!BQ23 -> 0 | H35: =別紙2!BS23 -> 0 | I35: =別紙2!BU23 -> － | J35: =別紙2!BV23 -> 0 | K35: =別紙2!BX23 -> 0 | M35: =CONCATENATE(B35,C35,D35,E35,F35,G35,H35,I35,J35,K35) -> 0000000－00
A36: 3-9 | B36: =別紙2!BA24 -> 0 | C36: =別紙2!BG24 -> 0 | D36: =別紙2!BI24 -> 0 | E36: =別紙2!BK24 -> 0 | F36: =別紙2!BM24 -> 0 | G36: =別紙2!BQ24 -> 0 | H36: =別紙2!BS24 -> 0 | I36: =別紙2!BU24 -> － | J36: =別紙2!BV24 -> 0 | K36: =別紙2!BX24 -> 0 | M36: =CONCATENATE(B36,C36,D36,E36,F36,G36,H36,I36,J36,K36) -> 0000000－00
A37: 3-10 | B37: =別紙2!BA25 -> 0 | C37: =別紙2!BG25 -> 0 | D37: =別紙2!BI25 -> 0 | E37: =別紙2!BK25 -> 0 | F37: =別紙2!BM25 -> 0 | G37: =別紙2!BQ25 -> 0 | H37: =別紙2!BS25 -> 0 | I37: =別紙2!BU25 -> － | J37: =別紙2!BV25 -> 0 | K37: =別紙2!BX25 -> 0 | M37: =CONCATENATE(B37,C37,D37,E37,F37,G37,H37,I37,J37,K37) -> 0000000－00
A38: 3-11 | B38: =別紙2!BA26 -> 0 | C38: =別紙2!BG26 -> 0 | D38: =別紙2!BI26 -> 0 | E38: =別紙2!BK26 -> 0 | F38: =別紙2!BM26 -> 0 | G38: =別紙2!BQ26 -> 0 | H38: =別紙2!BS26 -> 0 | I38: =別紙2!BU26 -> － | J38: =別紙2!BV26 -> 0 | K38: =別紙2!BX26 -> 0 | M38: =CONCATENATE(B38,C38,D38,E38,F38,G38,H38,I38,J38,K38) -> 0000000－00
A39: 3-12 | B39: =別紙2!BA27 -> 0 | C39: =別紙2!BG27 -> 0 | D39: =別紙2!BI27 -> 0 | E39: =別紙2!BK27 -> 0 | F39: =別紙2!BM27 -> 0 | G39: =別紙2!BQ27 -> 0 | H39: =別紙2!BS27 -> 0 | I39: =別紙2!BU27 -> － | J39: =別紙2!BV27 -> 0 | K39: =別紙2!BX27 -> 0 | M39: =CONCATENATE(B39,C39,D39,E39,F39,G39,H39,I39,J39,K39) -> 0000000－00
A40: 3-13 | B40: =別紙2!BA28 -> 0 | C40: =別紙2!BG28 -> 0 | D40: =別紙2!BI28 -> 0 | E40: =別紙2!BK28 -> 0 | F40: =別紙2!BM28 -> 0 | G40: =別紙2!BQ28 -> 0 | H40: =別紙2!BS28 -> 0 | I40: =別紙2!BU28 -> － | J40: =別紙2!BV28 -> 0 | K40: =別紙2!BX28 -> 0 | M40: =CONCATENATE(B40,C40,D40,E40,F40,G40,H40,I40,J40,K40) -> 0000000－00
...

Sheet 申請者・口座情報（転記用）
A1: 所在地 | B1: 法人名 | C1: 役職 | D1: 代表者名 | E1: 金融機関コード | F1: 支店コード | G1: 預金種類 | H1: 口座番号 | I1: 口座名義
A2: ='様式第1、別紙1'!M17 -> 0 | B2: ='様式第1、別紙1'!M15 -> 0 | C2: ='様式第1、別紙1'!M19 -> 0 | D2: ='様式第1、別紙1'!AB19 -> 0 | E2: ='様式第1、別紙1'!G51&'様式第1、別紙1'!H51&'様式第1、別紙1'!I51&'様式第1、別紙1'!J51 | F2: ='様式第1、別紙1'!G52&'様式第1、別紙1'!H52&'様式第1、別紙1'!I52&'様式第1、別紙1'!J52 | G2: ='様式第1、別紙1'!G55 -> 0 | H2: ='様式第1、別紙1'!G56&'様式第1、別紙1'!H56&'様式第1、別紙1'!I56&'様式第1、別紙1'!J56&'様式第1、別紙1'!K56&'様式第1、別紙1'!L56&'様式第1、別紙1'!M56 | I2: ='様式第1、別紙1'!G57 -> 0

Sheet 支払管理用
B1: ＊ | C1: ＊ | D1: ＊ | E1: ＊ | H1: ＊ | M1: ＊ | N1: ＊
A2: 支払管理用 | B2: 処理区分 | C2: 債権者コード | D2: 債権債務者 種別コード | E2: 所属コード | F2: 電話番号 | G2: 会社区分 コード | H2: 住所コード | I2: 番地 | J2: 方書 | K2: 屋号等(半角ｶﾅ) | L2: 屋号等 | M2: 氏名・名称(半角ｶﾅ) | N2: 氏名・名称 | O2: 代表者(半角ｶﾅ) | P2: 代表者 | Q2: 支払方法 コード | R2: 個別郵便番号 | S2: 口座内訳番号 | T2: 口座説明 | U2: 金融機関 コード | V2: 預金種別 コード | W2: 口座番号 | X2: 口座名義人(半角ｶﾅ) | Y2: 口座取消 フラグ
B3: 1 | C3: ='様式第1、別紙1'!Q22 -> 0 | D3: 1 | E3: 48100 | M3: ='様式第1、別紙1'!P14 -> 0 | N3: ='様式第1、別紙1'!M15 -> 0 | O3: ='様式第1、別紙1'!N18&'様式第1、別紙1'!AC18 | P3: ='様式第1、別紙1'!M19&'様式第1、別紙1'!AB19 | Q3: 2 | S3: 1 | T3: 燃料油価格高騰対策支援金 | U3: ='様式第1、別紙1'!G51&'様式第1、別紙1'!H51&'様式第1、別紙1'!I51&'様式第1、別紙1'!J51&'様式第1、別紙1'!G52&'様式第1、別紙1'!H52&'様式第1、別紙1'!I52 | V3: ='様式第1、別紙1'!G55 -> 0 | W3: ='様式第1、別紙1'!G56&'様式第1、別紙1'!H56&'様式第1、別紙1'!I56&'様式第1、別紙1'!J56&'様式第1、別紙1'!K56&'様式第1、別紙1'!L56&'様式第1、別紙1'!M56 | X3: ='様式第1、別紙1'!G57 -> 0
